BEGIN:VCALENDAR
VERSION:2.0
PRODID:-//jEvents 2.0 for Joomla//EN
CALSCALE:GREGORIAN
METHOD:PUBLISH
BEGIN:VEVENT
UID:5760267426c3552a79c13f9db91c1954
CATEGORIES:Practice
CREATED:20251112T081503
SUMMARY:Junior practice
DESCRIPTION:
DTSTAMP:20260424T170451
DTSTART:20260404T120000
DTEND:20260404T140000
SEQUENCE:0
TRANSP:OPAQUE
END:VEVENT
END:VCALENDAR