BEGIN:VCALENDAR
VERSION:2.0
PRODID:-//jEvents 2.0 for Joomla//EN
CALSCALE:GREGORIAN
METHOD:PUBLISH
BEGIN:VEVENT
UID:5760267426c3552a79c13f9db91c1954
CATEGORIES:Practice
CREATED:19691231T190000
SUMMARY:Junior practice
DESCRIPTION:
DTSTAMP:20260424T170855
DTSTART:20260117T130000
DTEND:20260117T150000
SEQUENCE:0
RRULE:FREQ=WEEKLY;UNTIL=20260427T000000Z;INTERVAL=1;BYDAY=SA
EXDATE:20260228T130000,20260307T130000,20260314T120000,20260418T120000
TRANSP:OPAQUE
END:VEVENT
END:VCALENDAR